BEGIN:VCALENDAR
VERSION:2.0
PRODID:SchoolNow
CALSCALE:GREGORIAN
BEGIN:VEVENT
UID:a9922a48-aee5-11ed-a796-0ee3532cba39
DTSTAMP:20230217T170813Z
SUMMARY:Spring Break - Mar. 13th
URL;VALUE=URI:https://www.wildernesslakecdd.org/calendar/3753810/spring-bre
 ak-mar-13th
DTSTART:20230313T170000Z
DTEND:20230313T190000Z
END:VEVENT
END:VCALENDAR
