BEGIN:VCALENDAR
VERSION:2.0
PRODID:SchoolNow
CALSCALE:GREGORIAN
BEGIN:VEVENT
UID:632b8306-aee5-11ed-a78f-0ee3532cba39
DTSTAMP:20230217T170625Z
SUMMARY:ARC Meeting - Mar. 27th
URL;VALUE=URI:https://www.wildernesslakecdd.org/calendar/3753809/arc-meetin
 g-mar-27th
DTSTART:20230327T223000Z
DTEND:20230327T233000Z
END:VEVENT
END:VCALENDAR
