BEGIN:VCALENDAR
VERSION:2.0
PRODID:SchoolNow
CALSCALE:GREGORIAN
BEGIN:VEVENT
UID:53e5dbb2-aee5-11ed-9847-0ee3532cba39
DTSTAMP:20230217T170549Z
SUMMARY:ARC Meeting - Mar. 13th
URL;VALUE=URI:https://www.wildernesslakecdd.org/calendar/3753808/arc-meetin
 g-mar-13th
DTSTART:20230313T223000Z
DTEND:20230313T233000Z
END:VEVENT
END:VCALENDAR
