BEGIN:VCALENDAR
VERSION:2.0
PRODID:SchoolNow
CALSCALE:GREGORIAN
BEGIN:VEVENT
UID:3b700b5c-aee5-11ed-b2f1-0ee3532cba39
DTSTAMP:20230217T170508Z
SUMMARY:Storytime - Mar. 27th
URL;VALUE=URI:https://www.wildernesslakecdd.org/calendar/3753807/storytime-
 mar-27th
DTSTART:20230327T140000Z
DTEND:20230327T150000Z
END:VEVENT
END:VCALENDAR
