BEGIN:VCALENDAR
VERSION:2.0
PRODID:SchoolNow
CALSCALE:GREGORIAN
BEGIN:VEVENT
UID:315ce8ec-aee5-11ed-85bf-0ee3532cba39
DTSTAMP:20230217T170451Z
SUMMARY:Storytime - Mar. 20th
URL;VALUE=URI:https://www.wildernesslakecdd.org/calendar/3753806/storytime-
 mar-20th
DTSTART:20230320T140000Z
DTEND:20230320T150000Z
END:VEVENT
END:VCALENDAR
