BEGIN:VCALENDAR
VERSION:2.0
PRODID:SchoolNow
CALSCALE:GREGORIAN
BEGIN:VEVENT
UID:1d6e2f4e-aee5-11ed-bec7-0ee3532cba39
DTSTAMP:20230217T170418Z
SUMMARY:Storytime - Mar. 13th
URL;VALUE=URI:https://www.wildernesslakecdd.org/calendar/3753805/storytime-
 mar-13th
DTSTART:20230313T140000Z
DTEND:20230313T150000Z
END:VEVENT
END:VCALENDAR
