BEGIN:VCALENDAR
VERSION:2.0
PRODID:SchoolNow
CALSCALE:GREGORIAN
BEGIN:VEVENT
UID:fc68b2f6-aee4-11ed-b52f-0ee3532cba39
DTSTAMP:20230217T170322Z
SUMMARY:Sip & Paint - Mar. 10th
URL;VALUE=URI:https://www.wildernesslakecdd.org/calendar/3753804/sip-paint-
 mar-10th
DTSTART:20230310T230000Z
DTEND:20230311T013000Z
END:VEVENT
END:VCALENDAR
