BEGIN:VCALENDAR
VERSION:2.0
PRODID:SchoolNow
CALSCALE:GREGORIAN
BEGIN:VEVENT
UID:d6a5e08e-aee4-11ed-9e1a-0ee3532cba39
DTSTAMP:20230217T170239Z
SUMMARY:Chatters Outing - Mar. 9th
URL;VALUE=URI:https://www.wildernesslakecdd.org/calendar/3753803/chatters-o
 uting-mar-9th
DTSTART:20230309T233000Z
DTEND:20230310T013000Z
END:VEVENT
END:VCALENDAR
