BEGIN:VCALENDAR
VERSION:2.0
PRODID:SchoolNow
CALSCALE:GREGORIAN
BEGIN:VEVENT
UID:a4940a08-aee4-11ed-9099-0ee3532cba39
DTSTAMP:20230217T170055Z
SUMMARY:Mahjong - Mar. 27h
URL;VALUE=URI:https://www.wildernesslakecdd.org/calendar/3753802/mahjong-ma
 r-27h
DTSTART:20230327T170000Z
DTEND:20230327T190000Z
END:VEVENT
END:VCALENDAR
