BEGIN:VCALENDAR
VERSION:2.0
PRODID:SchoolNow
CALSCALE:GREGORIAN
BEGIN:VEVENT
UID:98f15eda-aee4-11ed-8d82-0ee3532cba39
DTSTAMP:20230217T170036Z
SUMMARY:Mahjong - Mar. 20th
URL;VALUE=URI:https://www.wildernesslakecdd.org/calendar/3753801/mahjong-ma
 r-20th
DTSTART:20230320T170000Z
DTEND:20230320T190000Z
END:VEVENT
END:VCALENDAR
