BEGIN:VCALENDAR
VERSION:2.0
PRODID:SchoolNow
CALSCALE:GREGORIAN
BEGIN:VEVENT
UID:8a3e2242-aee4-11ed-a8e0-0ee3532cba39
DTSTAMP:20230217T170011Z
SUMMARY:Mahjong - Mar. 13th
URL;VALUE=URI:https://www.wildernesslakecdd.org/calendar/3753800/mahjong-ma
 r-13th
DTSTART:20230313T170000Z
DTEND:20230313T190000Z
END:VEVENT
END:VCALENDAR
