BEGIN:VCALENDAR
VERSION:2.0
PRODID:SchoolNow
CALSCALE:GREGORIAN
BEGIN:VEVENT
UID:78990138-aee4-11ed-8fb2-0ee3532cba39
DTSTAMP:20230217T165941Z
SUMMARY:Mahjong - Mar. 6th
URL;VALUE=URI:https://www.wildernesslakecdd.org/calendar/3753799/mahjong-ma
 r-6th
DTSTART:20230306T180000Z
DTEND:20230306T200000Z
END:VEVENT
END:VCALENDAR
