BEGIN:VCALENDAR
VERSION:2.0
PRODID:SchoolNow
CALSCALE:GREGORIAN
BEGIN:VEVENT
UID:56bbaade-aee4-11ed-8cdd-0ee3532cba39
DTSTAMP:20230217T165844Z
SUMMARY:Storytime - Mar. 6th
URL;VALUE=URI:https://www.wildernesslakecdd.org/calendar/3753798/storytime-
 mar-6th
DTSTART:20230306T150000Z
DTEND:20230306T160000Z
END:VEVENT
END:VCALENDAR
