BEGIN:VCALENDAR
VERSION:2.0
PRODID:SchoolNow
CALSCALE:GREGORIAN
BEGIN:VEVENT
UID:333009a2-aee4-11ed-bf68-0ee3532cba39
DTSTAMP:20230217T165745Z
SUMMARY:Grand GYM Refresh
URL;VALUE=URI:https://www.wildernesslakecdd.org/calendar/3753797/grand-gym-
 refresh
DTSTART:20230304T160000Z
DTEND:20230304T180000Z
END:VEVENT
END:VCALENDAR
