BEGIN:VCALENDAR
VERSION:2.0
PRODID:SchoolNow
CALSCALE:GREGORIAN
BEGIN:VEVENT
UID:1b7bc18e-aee4-11ed-8747-0ee3532cba39
DTSTAMP:20230315T193751Z
SUMMARY:Blood Drive
URL;VALUE=URI:https://www.wildernesslakecdd.org/calendar/3753796/blood-driv
 e
DTSTART:20230304T153000Z
DTEND:20230304T200000Z
END:VEVENT
END:VCALENDAR
