BEGIN:VCALENDAR
VERSION:2.0
PRODID:SchoolNow
CALSCALE:GREGORIAN
BEGIN:VEVENT
UID:f256d0c8-aee3-11ed-bee7-0ee3532cba39
DTSTAMP:20230217T165556Z
SUMMARY:Tennis - Mar. 4th
URL;VALUE=URI:https://www.wildernesslakecdd.org/calendar/3753795/tennis-mar
 -4th
DTSTART:20230304T140000Z
DTEND:20230304T150000Z
END:VEVENT
END:VCALENDAR
