BEGIN:VCALENDAR
VERSION:2.0
PRODID:SchoolNow
CALSCALE:GREGORIAN
BEGIN:VEVENT
UID:c923754e-aee3-11ed-85b6-0ee3532cba39
DTSTAMP:20230217T165447Z
SUMMARY:Family Movie Morning - Mar. 28th
LOCATION:Theatre
URL;VALUE=URI:https://www.wildernesslakecdd.org/calendar/3753794/family-mov
 ie-morning-mar-28th
DTSTART:20230328T140000Z
DTEND:20230328T153000Z
END:VEVENT
END:VCALENDAR
