BEGIN:VCALENDAR
VERSION:2.0
PRODID:SchoolNow
CALSCALE:GREGORIAN
BEGIN:VEVENT
UID:bf0f4268-aee3-11ed-9c75-0ee3532cba39
DTSTAMP:20230217T165430Z
SUMMARY:Family Movie Morning - Mar. 21st
LOCATION:Theatre
URL;VALUE=URI:https://www.wildernesslakecdd.org/calendar/3753793/family-mov
 ie-morning-mar-21st
DTSTART:20230321T140000Z
DTEND:20230321T153000Z
END:VEVENT
END:VCALENDAR
