BEGIN:VCALENDAR
VERSION:2.0
PRODID:SchoolNow
CALSCALE:GREGORIAN
BEGIN:VEVENT
UID:b6533832-aee3-11ed-b407-0ee3532cba39
DTSTAMP:20230217T165415Z
SUMMARY:Family Movie Morning - Mar. 14th
LOCATION:Theatre
URL;VALUE=URI:https://www.wildernesslakecdd.org/calendar/3753792/family-mov
 ie-morning-mar-14th
DTSTART:20230314T140000Z
DTEND:20230314T153000Z
END:VEVENT
END:VCALENDAR
