BEGIN:VCALENDAR
VERSION:2.0
PRODID:SchoolNow
CALSCALE:GREGORIAN
BEGIN:VEVENT
UID:92ad8572-aee3-11ed-aefb-0ee3532cba39
DTSTAMP:20230217T165316Z
SUMMARY:Family Movie Night - Mar. 30th
LOCATION:Theatre
URL;VALUE=URI:https://www.wildernesslakecdd.org/calendar/3753791/family-mov
 ie-night-mar-30th
DTSTART:20230330T220000Z
DTEND:20230330T233000Z
END:VEVENT
END:VCALENDAR
