BEGIN:VCALENDAR
VERSION:2.0
PRODID:SchoolNow
CALSCALE:GREGORIAN
BEGIN:VEVENT
UID:88aa6220-aee3-11ed-94c3-0ee3532cba39
DTSTAMP:20230217T165259Z
SUMMARY:Family Movie Night - Mar. 23rd
LOCATION:Theatre
URL;VALUE=URI:https://www.wildernesslakecdd.org/calendar/3753790/family-mov
 ie-night-mar-23rd
DTSTART:20230323T220000Z
DTEND:20230323T233000Z
END:VEVENT
END:VCALENDAR
