BEGIN:VCALENDAR
VERSION:2.0
PRODID:SchoolNow
CALSCALE:GREGORIAN
BEGIN:VEVENT
UID:7f9fcd46-aee3-11ed-be20-0ee3532cba39
DTSTAMP:20230217T165244Z
SUMMARY:Family Movie Night - Mar. 16th
LOCATION:Theatre
URL;VALUE=URI:https://www.wildernesslakecdd.org/calendar/3753789/family-mov
 ie-night-mar-16th
DTSTART:20230316T220000Z
DTEND:20230316T233000Z
END:VEVENT
END:VCALENDAR
