BEGIN:VCALENDAR
VERSION:2.0
PRODID:SchoolNow
CALSCALE:GREGORIAN
BEGIN:VEVENT
UID:48e085fc-aee3-11ed-b5c5-0ee3532cba39
DTSTAMP:20230217T165210Z
SUMMARY:Family Movie Morning - Mar. 7th
LOCATION:Theatre
URL;VALUE=URI:https://www.wildernesslakecdd.org/calendar/3753787/family-mov
 ie-morning-mar-7th
DTSTART:20230307T150000Z
DTEND:20230307T163000Z
END:VEVENT
END:VCALENDAR
