BEGIN:VCALENDAR
VERSION:2.0
PRODID:SchoolNow
CALSCALE:GREGORIAN
BEGIN:VEVENT
UID:1f35e17a-aee3-11ed-a31c-0ee3532cba39
DTSTAMP:20230217T165002Z
SUMMARY:Family Movie Night - Mar. 9th
LOCATION:Theatre
URL;VALUE=URI:https://www.wildernesslakecdd.org/calendar/3753786/family-mov
 ie-night-mar-9th
DTSTART:20230309T230000Z
DTEND:20230310T003000Z
END:VEVENT
END:VCALENDAR
