BEGIN:VCALENDAR
VERSION:2.0
PRODID:SchoolNow
CALSCALE:GREGORIAN
BEGIN:VEVENT
UID:0057d362-aee3-11ed-85dc-0ee3532cba39
DTSTAMP:20230217T165012Z
SUMMARY:Family Movie Night - Mar. 2nd
LOCATION:Theatre
URL;VALUE=URI:https://www.wildernesslakecdd.org/calendar/3753785/family-mov
 ie-night-mar-2nd
DTSTART:20230302T230000Z
DTEND:20230303T003000Z
END:VEVENT
END:VCALENDAR
