BEGIN:VCALENDAR
VERSION:2.0
PRODID:SchoolNow
CALSCALE:GREGORIAN
BEGIN:VEVENT
UID:c2163abc-aee2-11ed-95e2-0ee3532cba39
DTSTAMP:20230217T164726Z
SUMMARY:Pickleball - Mar. 30th
URL;VALUE=URI:https://www.wildernesslakecdd.org/calendar/3753784/pickleball
 -mar-30th
DTSTART:20230330T223000Z
DTEND:20230330T233000Z
END:VEVENT
END:VCALENDAR
