BEGIN:VCALENDAR
VERSION:2.0
PRODID:SchoolNow
CALSCALE:GREGORIAN
BEGIN:VEVENT
UID:b6f0ec68-aee2-11ed-b297-0ee3532cba39
DTSTAMP:20230217T164707Z
SUMMARY:Pickleball - Mar. 28th
URL;VALUE=URI:https://www.wildernesslakecdd.org/calendar/3753783/pickleball
 -mar-28th
DTSTART:20230328T223000Z
DTEND:20230328T233000Z
END:VEVENT
END:VCALENDAR
