BEGIN:VCALENDAR
VERSION:2.0
PRODID:SchoolNow
CALSCALE:GREGORIAN
BEGIN:VEVENT
UID:a8bed312-aee2-11ed-a6bc-0ee3532cba39
DTSTAMP:20230217T164643Z
SUMMARY:Pickleball - Mar. 23rd
URL;VALUE=URI:https://www.wildernesslakecdd.org/calendar/3753781/pickleball
 -mar-23rd
DTSTART:20230323T223000Z
DTEND:20230323T233000Z
END:VEVENT
END:VCALENDAR
