BEGIN:VCALENDAR
VERSION:2.0
PRODID:SchoolNow
CALSCALE:GREGORIAN
BEGIN:VEVENT
UID:9c2d0f10-aee2-11ed-86a6-0ee3532cba39
DTSTAMP:20230217T164622Z
SUMMARY:Pickleball - Mar. 21st
URL;VALUE=URI:https://www.wildernesslakecdd.org/calendar/3753778/pickleball
 -mar-21st
DTSTART:20230321T223000Z
DTEND:20230321T233000Z
END:VEVENT
END:VCALENDAR
