BEGIN:VCALENDAR
VERSION:2.0
PRODID:SchoolNow
CALSCALE:GREGORIAN
BEGIN:VEVENT
UID:8ef9a862-aee2-11ed-bfbf-0ee3532cba39
DTSTAMP:20230217T164600Z
SUMMARY:Pickleball - Mar. 16th
URL;VALUE=URI:https://www.wildernesslakecdd.org/calendar/3753777/pickleball
 -mar-16th
DTSTART:20230316T223000Z
DTEND:20230316T233000Z
END:VEVENT
END:VCALENDAR
