BEGIN:VCALENDAR
VERSION:2.0
PRODID:SchoolNow
CALSCALE:GREGORIAN
BEGIN:VEVENT
UID:8312a12a-aee2-11ed-a482-0ee3532cba39
DTSTAMP:20230217T164540Z
SUMMARY:Pickleball - Mar. 14th
URL;VALUE=URI:https://www.wildernesslakecdd.org/calendar/3753776/pickleball
 -mar-14th
DTSTART:20230314T223000Z
DTEND:20230314T233000Z
END:VEVENT
END:VCALENDAR
