BEGIN:VCALENDAR
VERSION:2.0
PRODID:SchoolNow
CALSCALE:GREGORIAN
BEGIN:VEVENT
UID:6b207c2c-aee2-11ed-9a94-0ee3532cba39
DTSTAMP:20230217T164500Z
SUMMARY:Pickleball - Mar. 9th
URL;VALUE=URI:https://www.wildernesslakecdd.org/calendar/3753747/pickleball
 -mar-9th
DTSTART:20230309T233000Z
DTEND:20230310T003000Z
END:VEVENT
END:VCALENDAR
