BEGIN:VCALENDAR
VERSION:2.0
PRODID:SchoolNow
CALSCALE:GREGORIAN
BEGIN:VEVENT
UID:59a5ed9c-aee2-11ed-b2e8-0ee3532cba39
DTSTAMP:20230217T164430Z
SUMMARY:Pickleball - Mar. 7th
URL;VALUE=URI:https://www.wildernesslakecdd.org/calendar/3753718/pickleball
 -mar-7th
DTSTART:20230307T233000Z
DTEND:20230308T003000Z
END:VEVENT
END:VCALENDAR
