BEGIN:VCALENDAR
VERSION:2.0
PRODID:SchoolNow
CALSCALE:GREGORIAN
BEGIN:VEVENT
UID:45d1ef32-aee2-11ed-a658-0ee3532cba39
DTSTAMP:20230217T164357Z
SUMMARY:Pickleball - Mar. 2nd
URL;VALUE=URI:https://www.wildernesslakecdd.org/calendar/3753633/pickleball
 -mar-2nd
DTSTART:20230302T233000Z
DTEND:20230303T003000Z
END:VEVENT
END:VCALENDAR
