BEGIN:VCALENDAR
VERSION:2.0
PRODID:SchoolNow
CALSCALE:GREGORIAN
BEGIN:VEVENT
UID:ccd03828-aee1-11ed-a227-0ee3532cba39
DTSTAMP:20230217T164222Z
SUMMARY:Food Truck - Mar. 29th
URL;VALUE=URI:https://www.wildernesslakecdd.org/calendar/3753632/food-truck
 -mar-29th
DTSTART:20230329T210000Z
DTEND:20230329T233000Z
END:VEVENT
END:VCALENDAR
