BEGIN:VCALENDAR
VERSION:2.0
PRODID:SchoolNow
CALSCALE:GREGORIAN
BEGIN:VEVENT
UID:c166247a-aee1-11ed-89c2-0ee3532cba39
DTSTAMP:20230217T164208Z
SUMMARY:Food Truck - Mar. 22nd
URL;VALUE=URI:https://www.wildernesslakecdd.org/calendar/3753631/food-truck
 -mar-22nd
DTSTART:20230322T210000Z
DTEND:20230322T233000Z
END:VEVENT
END:VCALENDAR
