BEGIN:VCALENDAR
VERSION:2.0
PRODID:SchoolNow
CALSCALE:GREGORIAN
BEGIN:VEVENT
UID:b5741f32-aee1-11ed-b895-0ee3532cba39
DTSTAMP:20230217T164155Z
SUMMARY:Food Truck - Mar. 15th
URL;VALUE=URI:https://www.wildernesslakecdd.org/calendar/3753630/food-truck
 -mar-15th
DTSTART:20230315T210000Z
DTEND:20230315T233000Z
END:VEVENT
END:VCALENDAR
