BEGIN:VCALENDAR
VERSION:2.0
PRODID:SchoolNow
CALSCALE:GREGORIAN
BEGIN:VEVENT
UID:ac9e7146-aee1-11ed-9eb8-0ee3532cba39
DTSTAMP:20230217T164121Z
SUMMARY:Food Truck - Mar. 8th
URL;VALUE=URI:https://www.wildernesslakecdd.org/calendar/3753629/food-truck
 -mar-8th
DTSTART:20230308T220000Z
DTEND:20230309T003000Z
END:VEVENT
END:VCALENDAR
