BEGIN:VCALENDAR
VERSION:2.0
PRODID:SchoolNow
CALSCALE:GREGORIAN
BEGIN:VEVENT
UID:9fbaddca-aee1-11ed-afe3-0ee3532cba39
DTSTAMP:20230217T164138Z
SUMMARY:Food Truck - Mar. 1st
URL;VALUE=URI:https://www.wildernesslakecdd.org/calendar/3753628/food-truck
 -mar-1st
DTSTART:20230301T220000Z
DTEND:20230302T003000Z
END:VEVENT
END:VCALENDAR
