BEGIN:VCALENDAR
VERSION:2.0
PRODID:SchoolNow
CALSCALE:GREGORIAN
BEGIN:VEVENT
UID:6bae55e8-aee1-11ed-89cd-0ee3532cba39
DTSTAMP:20230217T163751Z
SUMMARY:Card Games - Mar. 29th
URL;VALUE=URI:https://www.wildernesslakecdd.org/calendar/3753627/card-games
 -mar-29th
DTSTART:20230329T170000Z
DTEND:20230329T190000Z
END:VEVENT
END:VCALENDAR
