BEGIN:VCALENDAR
VERSION:2.0
PRODID:SchoolNow
CALSCALE:GREGORIAN
BEGIN:VEVENT
UID:613320ee-aee1-11ed-aef5-0ee3532cba39
DTSTAMP:20230217T163733Z
SUMMARY:Card Games - Mar. 22nd
URL;VALUE=URI:https://www.wildernesslakecdd.org/calendar/3753626/card-games
 -mar-22nd
DTSTART:20230322T170000Z
DTEND:20230322T190000Z
END:VEVENT
END:VCALENDAR
