BEGIN:VCALENDAR
VERSION:2.0
PRODID:SchoolNow
CALSCALE:GREGORIAN
BEGIN:VEVENT
UID:57512aa8-aee1-11ed-a741-0ee3532cba39
DTSTAMP:20230217T163717Z
SUMMARY:Card Games - Mar. 15th
URL;VALUE=URI:https://www.wildernesslakecdd.org/calendar/3753625/card-games
 -mar-15th
DTSTART:20230315T170000Z
DTEND:20230315T190000Z
END:VEVENT
END:VCALENDAR
