BEGIN:VCALENDAR
VERSION:2.0
PRODID:SchoolNow
CALSCALE:GREGORIAN
BEGIN:VEVENT
UID:4da5612c-aee1-11ed-9dad-0ee3532cba39
DTSTAMP:20230217T163701Z
SUMMARY:Card Games - Mar. 8th
URL;VALUE=URI:https://www.wildernesslakecdd.org/calendar/3753624/card-games
 -mar-8th
DTSTART:20230308T180000Z
DTEND:20230308T200000Z
END:VEVENT
END:VCALENDAR
