BEGIN:VCALENDAR
VERSION:2.0
PRODID:SchoolNow
CALSCALE:GREGORIAN
BEGIN:VEVENT
UID:447ed2cc-aee1-11ed-9c11-0ee3532cba39
DTSTAMP:20230217T163645Z
SUMMARY:Card Games - Mar. 1st
URL;VALUE=URI:https://www.wildernesslakecdd.org/calendar/3753623/card-games
 -mar-1st
DTSTART:20230301T180000Z
DTEND:20230301T200000Z
END:VEVENT
END:VCALENDAR
