BEGIN:VCALENDAR
VERSION:2.0
PRODID:SchoolNow
CALSCALE:GREGORIAN
BEGIN:VEVENT
UID:284a60c6-aee1-11ed-92c0-0ee3532cba39
DTSTAMP:20230217T163558Z
SUMMARY:Bible Study - Mar. 29th
URL;VALUE=URI:https://www.wildernesslakecdd.org/calendar/3753622/bible-stud
 y-mar-29th
DTSTART:20230329T140000Z
DTEND:20230329T150000Z
END:VEVENT
END:VCALENDAR
