BEGIN:VCALENDAR
VERSION:2.0
PRODID:SchoolNow
CALSCALE:GREGORIAN
BEGIN:VEVENT
UID:09349aa8-aee1-11ed-87be-0ee3532cba39
DTSTAMP:20230217T163506Z
SUMMARY:Bible Study - Mar. 22nd
URL;VALUE=URI:https://www.wildernesslakecdd.org/calendar/3753621/bible-stud
 y-mar-22nd
DTSTART:20230322T140000Z
DTEND:20230322T150000Z
END:VEVENT
END:VCALENDAR
