BEGIN:VCALENDAR
VERSION:2.0
PRODID:SchoolNow
CALSCALE:GREGORIAN
BEGIN:VEVENT
UID:fb2b10ae-aee0-11ed-a974-0ee3532cba39
DTSTAMP:20230217T163442Z
SUMMARY:Bible Study - Mar. 15th
URL;VALUE=URI:https://www.wildernesslakecdd.org/calendar/3753620/bible-stud
 y-mar-15th
DTSTART:20230315T140000Z
DTEND:20230315T150000Z
END:VEVENT
END:VCALENDAR
