BEGIN:VCALENDAR
VERSION:2.0
PRODID:SchoolNow
CALSCALE:GREGORIAN
BEGIN:VEVENT
UID:ed38ce0a-aee0-11ed-a773-0ee3532cba39
DTSTAMP:20230217T163419Z
SUMMARY:Bible Study - Mar. 8th
URL;VALUE=URI:https://www.wildernesslakecdd.org/calendar/3753619/bible-stud
 y-mar-8th
DTSTART:20230308T150000Z
DTEND:20230308T160000Z
END:VEVENT
END:VCALENDAR
