BEGIN:VCALENDAR
VERSION:2.0
PRODID:SchoolNow
CALSCALE:GREGORIAN
BEGIN:VEVENT
UID:c03f7c64-aee0-11ed-9c16-0ee3532cba39
DTSTAMP:20230217T163303Z
SUMMARY:Bible Study - Mar. 1st
URL;VALUE=URI:https://www.wildernesslakecdd.org/calendar/3753618/bible-stud
 y-mar-1st
DTSTART:20230301T150000Z
DTEND:20230301T160000Z
END:VEVENT
END:VCALENDAR
