BEGIN:VCALENDAR
VERSION:2.0
PRODID:SchoolNow
CALSCALE:GREGORIAN
BEGIN:VEVENT
UID:8d4e2152-aee0-11ed-bcf6-0ee3532cba39
DTSTAMP:20230217T163138Z
SUMMARY:Walking & Toning - Mar. 31st
URL;VALUE=URI:https://www.wildernesslakecdd.org/calendar/3753617/walking-to
 ning-mar-31st
DTSTART:20230331T133000Z
DTEND:20230331T144500Z
END:VEVENT
END:VCALENDAR
